BEGIN:VCALENDAR
VERSION:2.0
PRODID:-//TYPO3/NONSGML Calendarize//EN
BEGIN:VEVENT
UID:calendarize-weltfrauentag-einladung-zum-fruehstueck-1
DTSTAMP:20260425T144333Z
DTSTART:20260523T130000Z
SUMMARY:Einladung zum Boulespiel
DESCRIPTION:Bouleplatz in Kilianstädten nahe des Sportplatzes (vor den Hä
 usern Heinz-Herbert-Karry-Straße 18-28)\nInfos hier ...  
X-ALT-DESC;FMTTYPE=text/html:<p>Bouleplatz in Kilianstädten nahe des Spor
 tplatzes (vor den Häusern Heinz-Herbert-Karry-Straße 18-28)</p>\n<p><a h
 ref="https://gruene-schoeneck.de/startseite/news-detail/einladung-zum-boul
 espiel-am-2305" target="_top" title="Link öffnen">Infos hier ... </a><a c
 lass="external-link-new-window" href="https://gruene-schoeneck.de/startsei
 te/news-detail/weltfrauentag-am-83-einladung-zum-fruehstueck" target="_top
 " title="Link öffnen"> </a></p>
LOCATION:
END:VEVENT
END:VCALENDAR
